BEGIN:VCALENDAR
VERSION:2.0
PRODID:-//wp-events-plugin.com//7.2.3.1//EN
TZID:Europe/Helsinki
X-WR-TIMEZONE:Europe/Helsinki
BEGIN:VEVENT
UID:62@jovekoirat.fi
DTSTART;TZID=Europe/Helsinki:20260520T163000
DTEND;TZID=Europe/Helsinki:20260520T200000
DTSTAMP:20260419T174248Z
URL:https://www.jovekoirat.fi/tapahtumat/joven-matsari-20-5-2026/
SUMMARY:Joven mätsäri 20.5.2026
DESCRIPTION:https://www.jovekoirat.fi/tapahtumat/joven-matsari-20-5-2026/ \
 n\n  \n\nPerinteinen JoVe Ry:n match show järjestetään keskiviikkona 20
 .05.2026 Marjalan ABC aseman parkkipaikalla.\n\nTervetuloa mukaan!\n\nIlmo
 ittautuminen klo 16.30-17.30     Kehät alkavat klo 17.30\n\nTuomarit:
   Sinikka Vilenius\, Elina Alanen ja Maarit Makkonen-Mönkkönen\n\nLuo
 kat:\n\n-pennut alle 12kk (alaraja\, kun rokotukset ovat voimassa)\n\n-jun
 iorit 1-2v\n\n-aikuiset 2-7v\n\n-veteraanit yli 7v\n\n-lapsi ja koira (all
 e 10v lapsi)\n\n-lapsi ja lelukoira (alle 10v lapsi)\n\nIlmoittautuminen 1
 0 €\n\nLapsi ja koira sekä lapsi ja lelukoira 3€\n\n&nbsp\;\n\nJove:n
  mätsärit ovat tunnettuja huippupalkinnoistaan. Tänä vuonna on mukana 
 hurja joukko sponsoreita ja toinen toistaan upeampia palkintoja.\n\nPalkin
 toihin sujahtaa mm.:\n\n- Sokos Hotel Kimmel majoituslahjakortti (sis. aam
 iaisen)\n\n- Nautiskelukylpylä Kimmel Spa lahjakortti kahdelle\n\n- Hohto
 minigolf Joensuu lahjakortti kahdelle\n\n- Koiralikka lahjakortti\n\n- Rut
 tuNuttu lahjakortti\n\n- Vitabalabs tuotteita\n\n- Runsaasti erilaisia tav
 arapalkintoja ja lahjakortteja\n\nPysykää kuulolla! Tätä et halua miss
 ata!\n\nTapahtuman FB-sivuilla myös arvonta\, käykäähän osallistumass
 a!  
CATEGORIES:Match Show
END:VEVENT
BEGIN:VTIMEZONE
TZID:Europe/Helsinki
X-LIC-LOCATION:Europe/Helsinki
BEGIN:DAYLIGHT
DTSTART:20260329T040000
TZOFFSETFROM:+0200
TZOFFSETTO:+0300
TZNAME:EEST
END:DAYLIGHT
END:VTIMEZONE
END:VCALENDAR